Package: variancePartition Version: 1.37.2 Command: chmod a+r variancePartition -R && E:\biocbuild\bbs-3.21-bioc\R\bin\R.exe CMD build --keep-empty-dirs --no-resave-data variancePartition StartedAt: 2025-02-17 22:06:00 -0500 (Mon, 17 Feb 2025) EndedAt: 2025-02-17 22:19:52 -0500 (Mon, 17 Feb 2025) EllapsedTime: 832.0 seconds RetCode: 0 Status: OK PackageFile: variancePartition_1.37.2.tar.gz PackageFileSize: 3.87 MiB