Package: variancePartition Version: 1.37.2 Command: rm -rf variancePartition.buildbin-libdir && mkdir variancePartition.buildbin-libdir && E:\biocbuild\bbs-3.21-bioc\R\bin\R.exe CMD INSTALL --build --library=variancePartition.buildbin-libdir variancePartition_1.37.2.tar.gz StartedAt: 2025-02-18 08:31:23 -0500 (Tue, 18 Feb 2025) EndedAt: 2025-02-18 08:34:05 -0500 (Tue, 18 Feb 2025) EllapsedTime: 162.6 seconds RetCode: 0 Status: OK PackageFile: variancePartition_1.37.2.zip PackageFileSize: 4.014 MiB