Package: variancePartition Version: 1.37.2 Command: /home/biocbuild/bbs-3.21-bioc/R/bin/R CMD INSTALL variancePartition StartedAt: 2025-02-17 15:11:46 -0500 (Mon, 17 Feb 2025) EndedAt: 2025-02-17 15:12:05 -0500 (Mon, 17 Feb 2025) EllapsedTime: 19.3 seconds RetCode: 0 Status: OK