Package: variancePartition Version: 1.37.2 Command: /home/biocbuild/bbs-3.21-bioc/R/bin/R CMD check --install=check:variancePartition.install-out.txt --library=/home/biocbuild/bbs-3.21-bioc/R/site-library --timings variancePartition_1.37.2.tar.gz StartedAt: 2025-02-18 03:13:24 -0500 (Tue, 18 Feb 2025) EndedAt: 2025-02-18 03:31:59 -0500 (Tue, 18 Feb 2025) EllapsedTime: 1114.9 seconds RetCode: 0 Status: OK CheckDir: variancePartition.Rcheck Warnings: 0