Package: variancePartition Version: 1.37.2 Command: /home/biocbuild/bbs-3.21-bioc/R/bin/R CMD build --keep-empty-dirs --no-resave-data variancePartition StartedAt: 2025-02-17 19:34:44 -0500 (Mon, 17 Feb 2025) EndedAt: 2025-02-17 19:45:03 -0500 (Mon, 17 Feb 2025) EllapsedTime: 619.0 seconds RetCode: 0 Status: OK PackageFile: variancePartition_1.37.2.tar.gz PackageFileSize: 4.718 MiB