Package: variancePartition Version: 1.37.2 Command: /Library/Frameworks/R.framework/Resources/bin/R CMD INSTALL variancePartition StartedAt: 2025-02-17 15:13:07 -0500 (Mon, 17 Feb 2025) EndedAt: 2025-02-17 15:13:34 -0500 (Mon, 17 Feb 2025) EllapsedTime: 26.9 seconds RetCode: 0 Status: OK