Package: variancePartition Version: 1.37.2 Command: /Library/Frameworks/R.framework/Resources/bin/R CMD check --install=check:variancePartition.install-out.txt --library=/Library/Frameworks/R.framework/Resources/library --no-vignettes --timings variancePartition_1.37.2.tar.gz StartedAt: 2025-02-17 21:56:25 -0500 (Mon, 17 Feb 2025) EndedAt: 2025-02-17 21:59:13 -0500 (Mon, 17 Feb 2025) EllapsedTime: 167.9 seconds RetCode: 0 Status: OK CheckDir: variancePartition.Rcheck Warnings: 0