Package: variancePartition Version: 1.37.2 Command: /Library/Frameworks/R.framework/Resources/bin/R CMD build --keep-empty-dirs --no-resave-data variancePartition StartedAt: 2025-02-17 17:50:36 -0500 (Mon, 17 Feb 2025) EndedAt: 2025-02-17 17:54:33 -0500 (Mon, 17 Feb 2025) EllapsedTime: 237.6 seconds RetCode: 0 Status: OK PackageFile: variancePartition_1.37.2.tar.gz PackageFileSize: 4.978 MiB