Package: variancePartition Version: 1.38.1 Command: /Library/Frameworks/R.framework/Resources/bin/R CMD build --keep-empty-dirs --no-resave-data variancePartition StartedAt: 2025-09-30 11:33:50 -0400 (Tue, 30 Sep 2025) EndedAt: 2025-09-30 11:48:05 -0400 (Tue, 30 Sep 2025) EllapsedTime: 855.2 seconds RetCode: 0 Status: OK PackageFile: variancePartition_1.38.1.tar.gz PackageFileSize: 4.979 MiB