Package: variancePartition Version: 1.38.1 Command: rm -rf variancePartition.buildbin-libdir && mkdir variancePartition.buildbin-libdir && /Users/biocbuild/BBS/utils/build-universal.sh variancePartition_1.38.1.tar.gz /Library/Frameworks/R.framework/Resources/bin/R variancePartition.buildbin-libdir StartedAt: 2025-10-04 20:27:00 -0400 (Sat, 04 Oct 2025) EndedAt: 2025-10-04 20:27:23 -0400 (Sat, 04 Oct 2025) EllapsedTime: 23.4 seconds RetCode: 0 Status: OK PackageFile: variancePartition_1.38.1.tgz PackageFileSize: 5.108 MiB