Package: updateObject Version: 1.11.0 Command: chmod a+r updateObject -R && E:\biocbuild\bbs-3.21-bioc\R\bin\R.exe CMD build --keep-empty-dirs --no-resave-data updateObject StartedAt: 2025-02-20 22:24:01 -0500 (Thu, 20 Feb 2025) EndedAt: 2025-02-20 22:24:37 -0500 (Thu, 20 Feb 2025) EllapsedTime: 36.5 seconds RetCode: 0 Status: OK PackageFile: updateObject_1.11.0.tar.gz PackageFileSize: 1.289 MiB