Package: updateObject Version: 1.11.0 Command: /Library/Frameworks/R.framework/Resources/bin/R CMD INSTALL updateObject StartedAt: 2025-02-20 15:14:23 -0500 (Thu, 20 Feb 2025) EndedAt: 2025-02-20 15:14:33 -0500 (Thu, 20 Feb 2025) EllapsedTime: 9.6 seconds RetCode: 0 Status: OK