Package: updateObject Version: 1.11.0 Command: /Library/Frameworks/R.framework/Resources/bin/R CMD check --install=check:updateObject.install-out.txt --library=/Library/Frameworks/R.framework/Resources/library --no-vignettes --timings updateObject_1.11.0.tar.gz StartedAt: 2025-02-20 23:56:15 -0500 (Thu, 20 Feb 2025) EndedAt: 2025-02-20 23:57:14 -0500 (Thu, 20 Feb 2025) EllapsedTime: 59.1 seconds RetCode: 0 Status: OK CheckDir: updateObject.Rcheck Warnings: 0