Package: updateObject Version: 1.11.0 Command: /home/biocbuild/R/R/bin/R CMD check --install=check:updateObject.install-out.txt --library=/home/biocbuild/R/R/site-library --no-vignettes --timings updateObject_1.11.0.tar.gz StartedAt: 2025-01-27 13:46:54 -0000 (Mon, 27 Jan 2025) EndedAt: 2025-01-27 13:48:14 -0000 (Mon, 27 Jan 2025) EllapsedTime: 80.2 seconds RetCode: 0 Status: OK CheckDir: updateObject.Rcheck Warnings: 0