Package: updateObject Version: 1.11.0 Command: /Library/Frameworks/R.framework/Resources/bin/R CMD check --install=check:updateObject.install-out.txt --library=/Library/Frameworks/R.framework/Resources/library --no-vignettes --timings updateObject_1.11.0.tar.gz StartedAt: 2025-02-20 21:57:20 -0500 (Thu, 20 Feb 2025) EndedAt: 2025-02-20 21:57:44 -0500 (Thu, 20 Feb 2025) EllapsedTime: 24.3 seconds RetCode: 0 Status: OK CheckDir: updateObject.Rcheck Warnings: 0