Package: updateObject Version: 1.11.0 Command: rm -rf updateObject.buildbin-libdir && mkdir updateObject.buildbin-libdir && /Users/biocbuild/BBS/utils/build-universal.sh updateObject_1.11.0.tar.gz /Library/Frameworks/R.framework/Resources/bin/R updateObject.buildbin-libdir StartedAt: 2025-02-20 22:39:00 -0500 (Thu, 20 Feb 2025) EndedAt: 2025-02-20 22:39:04 -0500 (Thu, 20 Feb 2025) EllapsedTime: 3.1 seconds RetCode: 0 Status: OK PackageFile: updateObject_1.11.0.tgz PackageFileSize: 1.343 MiB