Package: updateObject Version: 1.12.0 Command: /Library/Frameworks/R.framework/Resources/bin/R CMD INSTALL updateObject StartedAt: 2025-10-13 15:36:56 -0400 (Mon, 13 Oct 2025) EndedAt: 2025-10-13 15:37:01 -0400 (Mon, 13 Oct 2025) EllapsedTime: 5.0 seconds RetCode: 0 Status: OK