Package: universalmotif Version: 1.25.1 Command: E:\biocbuild\bbs-3.21-bioc\R\bin\R.exe CMD check --no-multiarch --install=check:universalmotif.install-out.txt --library=E:\biocbuild\bbs-3.21-bioc\R\library --no-vignettes --timings universalmotif_1.25.1.tar.gz StartedAt: 2025-02-19 06:19:34 -0500 (Wed, 19 Feb 2025) EndedAt: 2025-02-19 06:23:01 -0500 (Wed, 19 Feb 2025) EllapsedTime: 206.9 seconds RetCode: 0 Status: OK CheckDir: universalmotif.Rcheck Warnings: 0