Package: universalmotif Version: 1.25.1 Command: rm -rf universalmotif.buildbin-libdir && mkdir universalmotif.buildbin-libdir && E:\biocbuild\bbs-3.21-bioc\R\bin\R.exe CMD INSTALL --build --library=universalmotif.buildbin-libdir universalmotif_1.25.1.tar.gz StartedAt: 2025-02-19 08:37:48 -0500 (Wed, 19 Feb 2025) EndedAt: 2025-02-19 08:40:55 -0500 (Wed, 19 Feb 2025) EllapsedTime: 186.7 seconds RetCode: 0 Status: OK PackageFile: universalmotif_1.25.1.zip PackageFileSize: 5.805 MiB