Package: universalmotif Version: 1.25.1 Command: /Library/Frameworks/R.framework/Resources/bin/R CMD INSTALL universalmotif StartedAt: 2025-02-18 15:06:00 -0500 (Tue, 18 Feb 2025) EndedAt: 2025-02-18 15:06:32 -0500 (Tue, 18 Feb 2025) EllapsedTime: 32.6 seconds RetCode: 0 Status: OK