Package: unifiedWMWqPCR Version: 1.43.0 Command: rm -rf unifiedWMWqPCR.buildbin-libdir && mkdir unifiedWMWqPCR.buildbin-libdir && E:\biocbuild\bbs-3.21-bioc\R\bin\R.exe CMD INSTALL --build --library=unifiedWMWqPCR.buildbin-libdir unifiedWMWqPCR_1.43.0.tar.gz StartedAt: 2025-02-21 09:20:01 -0500 (Fri, 21 Feb 2025) EndedAt: 2025-02-21 09:21:00 -0500 (Fri, 21 Feb 2025) EllapsedTime: 58.8 seconds RetCode: 0 Status: OK PackageFile: unifiedWMWqPCR_1.43.0.zip PackageFileSize: 739.3 KiB