Package: uncoverappLib Version: 1.17.0 Command: E:\biocbuild\bbs-3.21-bioc\R\bin\R.exe CMD INSTALL uncoverappLib StartedAt: 2025-02-20 16:54:49 -0500 (Thu, 20 Feb 2025) EndedAt: 2025-02-20 16:56:12 -0500 (Thu, 20 Feb 2025) EllapsedTime: 82.2 seconds RetCode: 0 Status: OK