Package: uncoverappLib Version: 1.17.0 Command: rm -rf uncoverappLib.buildbin-libdir && mkdir uncoverappLib.buildbin-libdir && E:\biocbuild\bbs-3.21-bioc\R\bin\R.exe CMD INSTALL --build --library=uncoverappLib.buildbin-libdir uncoverappLib_1.17.0.tar.gz StartedAt: 2025-02-21 09:19:58 -0500 (Fri, 21 Feb 2025) EndedAt: 2025-02-21 09:21:16 -0500 (Fri, 21 Feb 2025) EllapsedTime: 78.2 seconds RetCode: 0 Status: OK PackageFile: uncoverappLib_1.17.0.zip PackageFileSize: 2.842 MiB