Package: uncoverappLib Version: 1.17.0 Command: /home/biocbuild/bbs-3.21-bioc/R/bin/R CMD check --install=check:uncoverappLib.install-out.txt --library=/home/biocbuild/bbs-3.21-bioc/R/site-library --timings uncoverappLib_1.17.0.tar.gz StartedAt: 2025-02-19 03:09:41 -0500 (Wed, 19 Feb 2025) EndedAt: 2025-02-19 03:16:16 -0500 (Wed, 19 Feb 2025) EllapsedTime: 395.6 seconds RetCode: 0 Status: OK CheckDir: uncoverappLib.Rcheck Warnings: 0