Package: uncoverappLib Version: 1.17.0 Command: /Library/Frameworks/R.framework/Resources/bin/R CMD check --install=check:uncoverappLib.install-out.txt --library=/Library/Frameworks/R.framework/Resources/library --no-vignettes --timings uncoverappLib_1.17.0.tar.gz StartedAt: 2025-02-18 23:49:57 -0500 (Tue, 18 Feb 2025) EndedAt: 2025-02-18 23:56:52 -0500 (Tue, 18 Feb 2025) EllapsedTime: 414.5 seconds RetCode: 0 Status: OK CheckDir: uncoverappLib.Rcheck Warnings: 0