Package: uSORT Version: 1.33.0 Command: chmod a+r uSORT -R && E:\biocbuild\bbs-3.21-bioc\R\bin\R.exe CMD build --keep-empty-dirs --no-resave-data uSORT StartedAt: 2025-02-20 22:24:21 -0500 (Thu, 20 Feb 2025) EndedAt: 2025-02-20 22:25:01 -0500 (Thu, 20 Feb 2025) EllapsedTime: 39.9 seconds RetCode: 0 Status: OK PackageFile: uSORT_1.33.0.tar.gz PackageFileSize: 2.814 MiB