Package: tximport Version: 1.35.0 Command: /home/biocbuild/bbs-3.21-bioc/R/bin/R CMD INSTALL tximport StartedAt: 2025-02-19 15:03:02 -0500 (Wed, 19 Feb 2025) EndedAt: 2025-02-19 15:03:06 -0500 (Wed, 19 Feb 2025) EllapsedTime: 4.0 seconds RetCode: 0 Status: OK