Package: tximport Version: 1.35.0 Command: /home/biocbuild/R/R/bin/R CMD check --install=check:tximport.install-out.txt --library=/home/biocbuild/R/R/site-library --no-vignettes --timings tximport_1.35.0.tar.gz StartedAt: 2025-01-27 13:45:05 -0000 (Mon, 27 Jan 2025) EndedAt: 2025-01-27 13:49:06 -0000 (Mon, 27 Jan 2025) EllapsedTime: 240.6 seconds RetCode: 0 Status: OK CheckDir: tximport.Rcheck Warnings: 0