Package: tximeta Version: 1.25.2 Command: rm -rf tximeta.buildbin-libdir && mkdir tximeta.buildbin-libdir && E:\biocbuild\bbs-3.21-bioc\R\bin\R.exe CMD INSTALL --build --library=tximeta.buildbin-libdir tximeta_1.25.2.tar.gz StartedAt: 2025-02-21 09:19:47 -0500 (Fri, 21 Feb 2025) EndedAt: 2025-02-21 09:20:34 -0500 (Fri, 21 Feb 2025) EllapsedTime: 46.9 seconds RetCode: 0 Status: OK PackageFile: tximeta_1.25.2.zip PackageFileSize: 1.103 MiB