Package: tximeta Version: 1.25.2 Command: /home/biocbuild/bbs-3.21-bioc/R/bin/R CMD check --install=check:tximeta.install-out.txt --library=/home/biocbuild/bbs-3.21-bioc/R/site-library --timings tximeta_1.25.2.tar.gz StartedAt: 2025-02-21 02:45:19 -0500 (Fri, 21 Feb 2025) EndedAt: 2025-02-21 02:51:49 -0500 (Fri, 21 Feb 2025) EllapsedTime: 389.5 seconds RetCode: 0 Status: OK CheckDir: tximeta.Rcheck Warnings: 0