Package: tximeta Version: 1.25.2 Command: /Library/Frameworks/R.framework/Resources/bin/R CMD INSTALL tximeta StartedAt: 2025-02-20 15:22:53 -0500 (Thu, 20 Feb 2025) EndedAt: 2025-02-20 15:23:43 -0500 (Thu, 20 Feb 2025) EllapsedTime: 50.6 seconds RetCode: 0 Status: OK