Package: tximeta Version: 1.25.2 Command: /Library/Frameworks/R.framework/Resources/bin/R CMD check --install=check:tximeta.install-out.txt --library=/Library/Frameworks/R.framework/Resources/library --no-vignettes --timings tximeta_1.25.2.tar.gz StartedAt: 2025-02-20 23:54:36 -0500 (Thu, 20 Feb 2025) EndedAt: 2025-02-21 00:00:46 -0500 (Fri, 21 Feb 2025) EllapsedTime: 369.7 seconds RetCode: 0 Status: OK CheckDir: tximeta.Rcheck Warnings: 0