Package: tximeta Version: 1.25.2 Command: /Library/Frameworks/R.framework/Resources/bin/R CMD build --keep-empty-dirs --no-resave-data tximeta StartedAt: 2025-02-20 18:34:49 -0500 (Thu, 20 Feb 2025) EndedAt: 2025-02-20 18:36:31 -0500 (Thu, 20 Feb 2025) EllapsedTime: 101.7 seconds RetCode: 0 Status: OK PackageFile: tximeta_1.25.2.tar.gz PackageFileSize: 1.332 MiB