Package: twoddpcr Version: 1.31.0 Command: E:\biocbuild\bbs-3.21-bioc\R\bin\R.exe CMD INSTALL twoddpcr StartedAt: 2025-02-18 15:51:17 -0500 (Tue, 18 Feb 2025) EndedAt: 2025-02-18 15:52:31 -0500 (Tue, 18 Feb 2025) EllapsedTime: 74.0 seconds RetCode: 0 Status: OK