Package: twoddpcr Version: 1.31.0 Command: /home/biocbuild/bbs-3.21-bioc/R/bin/R CMD INSTALL twoddpcr StartedAt: 2025-02-18 15:10:31 -0500 (Tue, 18 Feb 2025) EndedAt: 2025-02-18 15:10:42 -0500 (Tue, 18 Feb 2025) EllapsedTime: 11.6 seconds RetCode: 0 Status: OK