Package: twoddpcr Version: 1.31.0 Command: /home/biocbuild/bbs-3.21-bioc/R/bin/R CMD build --keep-empty-dirs --no-resave-data twoddpcr StartedAt: 2025-02-18 19:31:00 -0500 (Tue, 18 Feb 2025) EndedAt: 2025-02-18 19:33:21 -0500 (Tue, 18 Feb 2025) EllapsedTime: 141.2 seconds RetCode: 0 Status: OK PackageFile: twoddpcr_1.31.0.tar.gz PackageFileSize: 3.82 MiB