Package: twoddpcr Version: 1.31.0 Command: /Library/Frameworks/R.framework/Resources/bin/R CMD build --keep-empty-dirs --no-resave-data twoddpcr StartedAt: 2025-02-18 18:32:26 -0500 (Tue, 18 Feb 2025) EndedAt: 2025-02-18 18:34:56 -0500 (Tue, 18 Feb 2025) EllapsedTime: 149.9 seconds RetCode: 0 Status: OK PackageFile: twoddpcr_1.31.0.tar.gz PackageFileSize: 3.968 MiB