Package: twoddpcr Version: 1.31.0 Command: /Library/Frameworks/R.framework/Resources/bin/R CMD check --install=check:twoddpcr.install-out.txt --library=/Library/Frameworks/R.framework/Resources/library --no-vignettes --timings twoddpcr_1.31.0.tar.gz StartedAt: 2025-02-18 21:59:13 -0500 (Tue, 18 Feb 2025) EndedAt: 2025-02-18 22:00:02 -0500 (Tue, 18 Feb 2025) EllapsedTime: 48.6 seconds RetCode: 0 Status: OK CheckDir: twoddpcr.Rcheck Warnings: 0