Package: twilight Version: 1.83.9 Command: E:\biocbuild\bbs-3.21-bioc\R\bin\R.exe CMD check --no-multiarch --install=check:twilight.install-out.txt --library=E:\biocbuild\bbs-3.21-bioc\R\library --no-vignettes --timings twilight_1.83.9.tar.gz StartedAt: 2025-02-21 06:46:04 -0500 (Fri, 21 Feb 2025) EndedAt: 2025-02-21 06:46:48 -0500 (Fri, 21 Feb 2025) EllapsedTime: 43.8 seconds RetCode: 0 Status: OK CheckDir: twilight.Rcheck Warnings: 0