Package: twilight Version: 1.83.9 Command: chmod a+r twilight -R && E:\biocbuild\bbs-3.21-bioc\R\bin\R.exe CMD build --keep-empty-dirs --no-resave-data twilight StartedAt: 2025-02-20 22:22:23 -0500 (Thu, 20 Feb 2025) EndedAt: 2025-02-20 22:23:59 -0500 (Thu, 20 Feb 2025) EllapsedTime: 96.2 seconds RetCode: 0 Status: OK PackageFile: twilight_1.83.9.tar.gz PackageFileSize: 949.3 KiB