Package: twilight Version: 1.83.9 Command: rm -rf twilight.buildbin-libdir && mkdir twilight.buildbin-libdir && E:\biocbuild\bbs-3.21-bioc\R\bin\R.exe CMD INSTALL --build --library=twilight.buildbin-libdir twilight_1.83.9.tar.gz StartedAt: 2025-02-21 09:19:28 -0500 (Fri, 21 Feb 2025) EndedAt: 2025-02-21 09:19:44 -0500 (Fri, 21 Feb 2025) EllapsedTime: 15.2 seconds RetCode: 0 Status: OK PackageFile: twilight_1.83.9.zip PackageFileSize: 979.5 KiB