Package: twilight Version: 1.83.9 Command: /Library/Frameworks/R.framework/Resources/bin/R CMD check --install=check:twilight.install-out.txt --library=/Library/Frameworks/R.framework/Resources/library --no-vignettes --timings twilight_1.83.9.tar.gz StartedAt: 2025-02-20 21:56:04 -0500 (Thu, 20 Feb 2025) EndedAt: 2025-02-20 21:56:19 -0500 (Thu, 20 Feb 2025) EllapsedTime: 15.2 seconds RetCode: 0 Status: OK CheckDir: twilight.Rcheck Warnings: 0