Package: tweeDEseq Version: 1.53.0 Command: E:\biocbuild\bbs-3.21-bioc\R\bin\R.exe CMD check --no-multiarch --install=check:tweeDEseq.install-out.txt --library=E:\biocbuild\bbs-3.21-bioc\R\library --no-vignettes --timings tweeDEseq_1.53.0.tar.gz StartedAt: 2025-02-21 06:46:02 -0500 (Fri, 21 Feb 2025) EndedAt: 2025-02-21 06:47:21 -0500 (Fri, 21 Feb 2025) EllapsedTime: 79.1 seconds RetCode: 0 Status: WARNINGS CheckDir: tweeDEseq.Rcheck Warnings: 1