Package: tweeDEseq Version: 1.53.0 Command: /Library/Frameworks/R.framework/Resources/bin/R CMD INSTALL tweeDEseq StartedAt: 2025-02-20 15:36:06 -0500 (Thu, 20 Feb 2025) EndedAt: 2025-02-20 15:36:18 -0500 (Thu, 20 Feb 2025) EllapsedTime: 12.8 seconds RetCode: 0 Status: OK