Package: tweeDEseq Version: 1.53.0 Command: /Library/Frameworks/R.framework/Resources/bin/R CMD build --keep-empty-dirs --no-resave-data tweeDEseq StartedAt: 2025-02-20 18:34:35 -0500 (Thu, 20 Feb 2025) EndedAt: 2025-02-20 18:42:48 -0500 (Thu, 20 Feb 2025) EllapsedTime: 493.1 seconds RetCode: 0 Status: OK PackageFile: tweeDEseq_1.53.0.tar.gz PackageFileSize: 234.4 KiB