Package: ttgsea Version: 1.15.0 Command: E:\biocbuild\bbs-3.21-bioc\R\bin\R.exe CMD INSTALL ttgsea StartedAt: 2025-02-19 17:00:38 -0500 (Wed, 19 Feb 2025) EndedAt: 2025-02-19 17:00:56 -0500 (Wed, 19 Feb 2025) EllapsedTime: 17.3 seconds RetCode: 0 Status: OK