Package: ttgsea Version: 1.15.0 Command: chmod a+r ttgsea -R && E:\biocbuild\bbs-3.21-bioc\R\bin\R.exe CMD build --keep-empty-dirs --no-resave-data ttgsea StartedAt: 2025-02-19 22:12:21 -0500 (Wed, 19 Feb 2025) EndedAt: 2025-02-19 22:14:26 -0500 (Wed, 19 Feb 2025) EllapsedTime: 125.0 seconds RetCode: 1 Status: ERROR PackageFile: None PackageFileSize: NA