Package: ttgsea Version: 1.15.0 Command: /home/biocbuild/bbs-3.21-bioc/R/bin/R CMD INSTALL ttgsea StartedAt: 2025-02-20 15:20:14 -0500 (Thu, 20 Feb 2025) EndedAt: 2025-02-20 15:20:23 -0500 (Thu, 20 Feb 2025) EllapsedTime: 8.5 seconds RetCode: 0 Status: OK