Package: ttgsea Version: 1.15.0 Command: /Library/Frameworks/R.framework/Resources/bin/R CMD build --keep-empty-dirs --no-resave-data ttgsea StartedAt: 2025-02-19 18:34:35 -0500 (Wed, 19 Feb 2025) EndedAt: 2025-02-19 18:35:15 -0500 (Wed, 19 Feb 2025) EllapsedTime: 40.0 seconds RetCode: 1 Status: ERROR PackageFile: None PackageFileSize: NA