Package: tripr Version: 1.13.0 Command: E:\biocbuild\bbs-3.21-bioc\R\bin\R.exe CMD INSTALL tripr StartedAt: 2025-02-20 15:47:52 -0500 (Thu, 20 Feb 2025) EndedAt: 2025-02-20 15:49:09 -0500 (Thu, 20 Feb 2025) EllapsedTime: 77.1 seconds RetCode: 0 Status: OK